BEGIN:VCALENDAR
VERSION:2.0
PRODID:icalendar-ruby
CALSCALE:GREGORIAN
METHOD:PUBLISH
BEGIN:VEVENT
DTSTAMP:20260423T105741Z
UID:1-1181342@cmbclex.com
DTSTART:20261011T150000Z
DTEND:20261011T163000Z
CLASS:PUBLIC
CREATED:20260422T212910
DESCRIPTION: \n 
LAST-MODIFIED:20260422T212910
LOCATION:246 Russell Cave Rd. Paris\, KY 40361
SUMMARY:Sunday Service
URL;VALUE=URI:https://www.cmbclex.com/events/sunday-service/2026-10-11
ATTACH;FILENAME=church header.jpg;FMTTYPE=image/jpeg:https://dq5pwpg1q8ru0.
 cloudfront.net/2025/09/21/13/06/59/a40a1639-bdef-4509-b197-74fa8f5ef988/ch
 urch%20header.jpg
END:VEVENT
END:VCALENDAR
